BEGIN:VCALENDAR
VERSION:2.0
PRODID:-//Saint Paul Bird Alliance - ECPv6.15.20//NONSGML v1.0//EN
CALSCALE:GREGORIAN
METHOD:PUBLISH
X-WR-CALNAME:Saint Paul Bird Alliance
X-ORIGINAL-URL:https://saintpaulbirdalliance.org
X-WR-CALDESC:Events for Saint Paul Bird Alliance
REFRESH-INTERVAL;VALUE=DURATION:PT1H
X-Robots-Tag:noindex
X-PUBLISHED-TTL:PT1H
BEGIN:VTIMEZONE
TZID:America/Chicago
BEGIN:DAYLIGHT
TZOFFSETFROM:-0600
TZOFFSETTO:-0500
TZNAME:CDT
DTSTART:20230312T080000
END:DAYLIGHT
BEGIN:STANDARD
TZOFFSETFROM:-0500
TZOFFSETTO:-0600
TZNAME:CST
DTSTART:20231105T070000
END:STANDARD
BEGIN:DAYLIGHT
TZOFFSETFROM:-0600
TZOFFSETTO:-0500
TZNAME:CDT
DTSTART:20240310T080000
END:DAYLIGHT
BEGIN:STANDARD
TZOFFSETFROM:-0500
TZOFFSETTO:-0600
TZNAME:CST
DTSTART:20241103T070000
END:STANDARD
BEGIN:DAYLIGHT
TZOFFSETFROM:-0600
TZOFFSETTO:-0500
TZNAME:CDT
DTSTART:20250309T080000
END:DAYLIGHT
BEGIN:STANDARD
TZOFFSETFROM:-0500
TZOFFSETTO:-0600
TZNAME:CST
DTSTART:20251102T070000
END:STANDARD
END:VTIMEZONE
BEGIN:VEVENT
DTSTART;TZID=America/Chicago:20240516T070000
DTEND;TZID=America/Chicago:20240516T100000
DTSTAMP:20260419T114217
CREATED:20240327T014306Z
LAST-MODIFIED:20240327T014310Z
UID:10000306-1715842800-1715853600@saintpaulbirdalliance.org
SUMMARY:Migrant and Nesting Birds Murphy-Hanrehan Park Reserve
DESCRIPTION:15501 Murphy Lake Blvd\, Savage\, MN 55378 \nThursday\, May 16\, 7-10 AM \nOne of the best birding areas in Twin Cities Metro! Focus is on songs/calls of nesting birds in a hardwood forest as well as spring migrants. Hooded warbler is a target species. \nDIRECTIONS      Head south from Minneapolis on 35W. Take Exit 2 for Burnsville Pkwy. Turn L on Burnsville Pkwy.\, go 2.1 miles. Turn right on Burnsville Pkwy W.\, go 1.6 miles. Continue straight ahead on Hanrehan Lake Blvd.\, go 1.1 miles. At the traffic circle take 2nd exit onto Murphy Lake Blvd.\, go 0.1 mile. Turn left into Park. Meet in parking lot.  44.724223\, -93.348243 \nREGISTRATION     None \nDIFFICULTY      Approximately 3+ miles on wide\, natural grass and dirt trails (some areas slightly rocky) with some moderate\, long hills. This is our longest and most challenging trip. Pit toilets available at main trailhead \nnear parking lot. \nLEADER     Bill Stjern\, norskestar@comcast.net 651- 458-1542
URL:https://saintpaulbirdalliance.org/event/migrant-and-nesting-birds-murphy-hanrehan-park-reserve-2/
LOCATION:Murphy Hanrehan Park Reserve\, Savage\, MN\, 15501 Murphy Lake Blvd\, Savage\, MN\, 55378\, United States
CATEGORIES:Bird Walk,Field Trip
ATTACH;FMTTYPE=image/jpeg:https://saintpaulbirdalliance.org/wp-content/uploads/2023/03/hooded-warbler.jpg
ORGANIZER;CN="Saint Paul Bird Alliance":MAILTO:General@saintpaulbirdalliance.org
END:VEVENT
BEGIN:VEVENT
DTSTART;TZID=America/Chicago:20240531T073000
DTEND;TZID=America/Chicago:20240531T103000
DTSTAMP:20260419T114217
CREATED:20240504T144057Z
LAST-MODIFIED:20240504T150244Z
UID:10000313-1717140600-1717151400@saintpaulbirdalliance.org
SUMMARY:Bike & Bird - Samuel H. Morgan Regional Trail
DESCRIPTION:Our Bike & Bird roster is growing! This year there will be 3 Friday morning trips (May 31\, June 14\, June 28) and  5 Sunday morning trips (June 2\, June 23\, July 14\, August 4\, September 15) – All led by Sherry Gray. \nFriday\, May 31: Samuel H. Morgan Regional Trail (https://www.traillink.com/trail/samuel-h-morgan-regional-trail/) from Upper Landing Park in downtown St. Paul 3 miles to Crosby Farm Park\, then another 3 or so miles to Hidden Falls Park\, and return. \nLOCATION     Meet on bikes at 226 Spring St\, St Paul\, MN 55102 in Saint Paul. (44.940168120270926\, -93.09965740094373) \nDIFFICULTY      Route is paved\, mostly off road bike trail (shared with peds) along the Mississippi River and can be hilly. Crosby Farm Park offers river access\, a lake\, wooded areas\, and toilets and water. \nINFORMATION     Bring bicycle\, helmet\, binoculars\, snacks\, sunscreen and water. Leader will bring a first aid kit. \nREGISTRATION     Required and limited to 8 participants. CONTACT   sherrygray@yahoo.com  with questions and/or to register.  Participants will be asked to sign a liability release form at the start of the trip.
URL:https://saintpaulbirdalliance.org/event/bird-bike-samuel-h-morgan-regional-trail/
LOCATION:Upper Landing Park\, 226 Spring St\, St Paul\, MN\, 55102\, United States
CATEGORIES:Field Trip
ATTACH;FMTTYPE=image/jpeg:https://saintpaulbirdalliance.org/wp-content/uploads/2024/04/226-Spring-Street.jpg
ORGANIZER;CN="Saint Paul Bird Alliance":MAILTO:General@saintpaulbirdalliance.org
END:VEVENT
END:VCALENDAR