BEGIN:VCALENDAR
VERSION:2.0
PRODID:-//Saint Paul Bird Alliance - ECPv6.15.20//NONSGML v1.0//EN
CALSCALE:GREGORIAN
METHOD:PUBLISH
X-WR-CALNAME:Saint Paul Bird Alliance
X-ORIGINAL-URL:https://saintpaulbirdalliance.org
X-WR-CALDESC:Events for Saint Paul Bird Alliance
REFRESH-INTERVAL;VALUE=DURATION:PT1H
X-Robots-Tag:noindex
X-PUBLISHED-TTL:PT1H
BEGIN:VTIMEZONE
TZID:America/Chicago
BEGIN:DAYLIGHT
TZOFFSETFROM:-0600
TZOFFSETTO:-0500
TZNAME:CDT
DTSTART:20210314T080000
END:DAYLIGHT
BEGIN:STANDARD
TZOFFSETFROM:-0500
TZOFFSETTO:-0600
TZNAME:CST
DTSTART:20211107T070000
END:STANDARD
BEGIN:DAYLIGHT
TZOFFSETFROM:-0600
TZOFFSETTO:-0500
TZNAME:CDT
DTSTART:20220313T080000
END:DAYLIGHT
BEGIN:STANDARD
TZOFFSETFROM:-0500
TZOFFSETTO:-0600
TZNAME:CST
DTSTART:20221106T070000
END:STANDARD
BEGIN:DAYLIGHT
TZOFFSETFROM:-0600
TZOFFSETTO:-0500
TZNAME:CDT
DTSTART:20230312T080000
END:DAYLIGHT
BEGIN:STANDARD
TZOFFSETFROM:-0500
TZOFFSETTO:-0600
TZNAME:CST
DTSTART:20231105T070000
END:STANDARD
END:VTIMEZONE
BEGIN:VEVENT
DTSTART;TZID=America/Chicago:20221001T083000
DTEND;TZID=America/Chicago:20221001T123000
DTSTAMP:20260420T154307
CREATED:20220811T214613Z
LAST-MODIFIED:20220929T144535Z
UID:10000125-1664613000-1664627400@saintpaulbirdalliance.org
SUMMARY:***CANCELLED***Biking & Birding: Carlos Avery WMA***CANCELLED***
DESCRIPTION:Carlos Avery WMA – North Loop Parking Area \n9067-7801 205th Ave NE\, Wyoming\, MN 55092    \nSaturday October 1\, 8:30 AM to 12:30pm. \nDiscover the fun of birding from a bicycle on several miles of level gravel roads that connect varied habitat in this large WMA near Wyoming\, MN. Carlos Avery is a prime birding location for Anoka and Chisago counties both (top hotspot on eBird for Anoka). Landscape includes lakes\, small woods\, wetlands\, and open grassland.  A bike that handles gravel roads\, or a mountain bike\, is recommended.  Directions and map will be provided later. \nDIRECTIONS      Meet in the Carlos Avery North Loop Parking Area. This is where 205th Ave NE meets Wyoming Rd. \nINFORMATION     Bring a bicycle\, helmet\, binoculars\, snacks\, lunch\, and water.  A scope will be available. \nREGISTRATION     Limited to 8 participants.  Contact  sherrygray@yahoo.com to register. \nDIFFICULTY     Moderate \nLEADER     Sherry Gray   sherrygray@yahoo.com
URL:https://saintpaulbirdalliance.org/event/biking-birding-carlos-avery-wma/
LOCATION:Carlos Avery North Loop Parking Lot\, 9067 - 7801 205th Ave NE\, Wyoming\, MN\, 55092\, United States
ATTACH;FMTTYPE=image/webp:https://saintpaulbirdalliance.org/wp-content/uploads/2022/08/11194279-an-autumn-field-and-forest-in-carlos-avery-wildlife-management-area-minnesota-.webp
ORGANIZER;CN="Saint Paul Bird Alliance":MAILTO:General@saintpaulbirdalliance.org
GEO:45.341380434034;-93.071714169487
X-APPLE-STRUCTURED-LOCATION;VALUE=URI;X-ADDRESS=Carlos Avery North Loop Parking Lot 9067 - 7801 205th Ave NE Wyoming MN 55092 United States;X-APPLE-RADIUS=500;X-TITLE=9067 - 7801 205th Ave NE:geo:-93.071714169487,45.341380434034
END:VEVENT
BEGIN:VEVENT
DTSTART;TZID=America/Chicago:20221003T090000
DTEND;TZID=America/Chicago:20221003T110000
DTSTAMP:20260420T154307
CREATED:20220914T022953Z
LAST-MODIFIED:20220914T022953Z
UID:10000187-1664787600-1664794800@saintpaulbirdalliance.org
SUMMARY:Bird Up - at Springbrook Nature Center
DESCRIPTION:*** Bird Ups – Something new for the fall*** \nFall 2023 marks the debut of Saint Paul Audubon’s new more informal version of birding events\, Bird Ups.  Meet up at the site\, and everyone will be responsible for finding and identifying the birds.  SPAS will provide a convener who is familiar with the park and knows which areas to visit\, and who will make sure everyone finds their way back to the parking lot. Birders of all levels welcome. Keep an eye on the SPAS website as we hope to add a few more Bird Ups throughout the fall. \nSpringbrook Nature Center \n100 85th Avenue NE\, Fridley \nMonday\, October 3\, 9:00 – 11 AM \nMeet in the main parking lot by the visitor center. The entrance is on the south side of 85th Avenue\, about 0.4 mile west of University Ave. \nDIFFICULTY      Approximately 1.4 miles on fairly level paved and dirt paths\, and a boardwalk. A couple very small hills.  Long sleeves\, long pants\, and bug spray should be considered. Restrooms on site. \nCONVENER     Jane Braun   jane@promotional.com \n 
URL:https://saintpaulbirdalliance.org/event/bird-up-at-springbrook-nature-center/
LOCATION:Springbrook Nature Center\, 100 85th Avenue NE\, Fridley\, MN\, United States
CATEGORIES:Bird Walk,Field Trip
ATTACH;FMTTYPE=image/jpeg:https://saintpaulbirdalliance.org/wp-content/uploads/2022/09/Springbrook-Nature-Center.jpg
ORGANIZER;CN="Saint Paul Bird Alliance":MAILTO:General@saintpaulbirdalliance.org
END:VEVENT
BEGIN:VEVENT
DTSTART;TZID=America/Chicago:20221003T160000
DTEND;TZID=America/Chicago:20221003T173000
DTSTAMP:20260420T154307
CREATED:20220907T193233Z
LAST-MODIFIED:20220907T204014Z
UID:10000166-1664812800-1664818200@saintpaulbirdalliance.org
SUMMARY:SPAS Board Meeting
DESCRIPTION:The Saint Paul Audubon Society board meetings are held at 4 pm on the first Monday of every month\, through June. \nIf Monday is a holiday\, the meeting is on the following Tuesday.
URL:https://saintpaulbirdalliance.org/event/spas-board-meeting/2022-10-03/
LOCATION:Como Lakeside Pavilion\, 1360 Lexington Pkwy N\, St Paul\, MN\, 55103\, United States
CATEGORIES:Board Meeting
ATTACH;FMTTYPE=image/jpeg:https://saintpaulbirdalliance.org/wp-content/uploads/2018/05/District_Office.jpg
ORGANIZER;CN="Saint Paul Bird Alliance":MAILTO:General@saintpaulbirdalliance.org
END:VEVENT
BEGIN:VEVENT
DTSTART;TZID=America/Chicago:20221013T190000
DTEND;TZID=America/Chicago:20221013T203000
DTSTAMP:20260420T154307
CREATED:20220801T180814Z
LAST-MODIFIED:20221004T185502Z
UID:10000116-1665687600-1665693000@saintpaulbirdalliance.org
SUMMARY:Monthly Chapter Meeting | David Heemsbergen\, Bird Photographer
DESCRIPTION:David Heemsbergen presents “Lessons Learned in Two Parts: Photography and Habitat Establishment.” \nPart one will be a discussion of how preparation\, practice\, and patience can make taking photographs more enjoyable\, and how it is not necessary to be in an exotic location to capture images that tell a story you will want to share with family and friends. With a few exceptions\, he will present images taken in Minnesota and Wisconsin. \nPart two is about the experience David and his wife\, Jan Morlock\, have had to establish pollinator habitats\, including mistakes and successes! They have three pollinator habitats ranging from a 15-foot triangle to a 42-acre field\, size area will attract pollinators with the proper native plants. David will show images of the habitats and some of their new “friends” that live there. \nDavid grew up on an Iowa farm\, graduated from Cornell University\, and returned to Iowa where he farmed for a number of years. Later he worked in sales and marketing in the ag industry and then spent roughly ten years working internationally\, starting as an ag specialist for the Agriculture Bank of Papua New Guinea in the Peace Corps\, and then holding various ag development positions in Bulgaria\, Armenia\, Uganda\, and Moldova. He now spends his time working on their farm in Menomonie\, Wisconsin\, practicing photography and volunteering. \nPhotography by David Heemsbergen \n\nMonthly chapter meetings are held the second Thursday of the month\, September-May\, at 7:00 p.m. They are open and free of charge to everyone. They include time to socialize and brief chapter announcements\, followed by featured presentations each month on a range of topics. \nAn option for viewing the presentations remotely will also be provided. \n 
URL:https://saintpaulbirdalliance.org/event/monthly-chapter-meeting-2-2022-10-13/
CATEGORIES:Monthly Chapter Meeting,Speaker Series
ATTACH;FMTTYPE=image/png:https://saintpaulbirdalliance.org/wp-content/uploads/2022/08/wood-duck.png
ORGANIZER;CN="Saint Paul Bird Alliance":MAILTO:General@saintpaulbirdalliance.org
LOCATION:https://us06web.zoom.us/j/86736855454
END:VEVENT
END:VCALENDAR