BEGIN:VCALENDAR
VERSION:2.0
PRODID:-//Saint Paul Bird Alliance - ECPv6.15.20//NONSGML v1.0//EN
CALSCALE:GREGORIAN
METHOD:PUBLISH
X-WR-CALNAME:Saint Paul Bird Alliance
X-ORIGINAL-URL:https://saintpaulbirdalliance.org
X-WR-CALDESC:Events for Saint Paul Bird Alliance
REFRESH-INTERVAL;VALUE=DURATION:PT1H
X-Robots-Tag:noindex
X-PUBLISHED-TTL:PT1H
BEGIN:VTIMEZONE
TZID:America/Chicago
BEGIN:DAYLIGHT
TZOFFSETFROM:-0600
TZOFFSETTO:-0500
TZNAME:CDT
DTSTART:20230312T080000
END:DAYLIGHT
BEGIN:STANDARD
TZOFFSETFROM:-0500
TZOFFSETTO:-0600
TZNAME:CST
DTSTART:20231105T070000
END:STANDARD
BEGIN:DAYLIGHT
TZOFFSETFROM:-0600
TZOFFSETTO:-0500
TZNAME:CDT
DTSTART:20240310T080000
END:DAYLIGHT
BEGIN:STANDARD
TZOFFSETFROM:-0500
TZOFFSETTO:-0600
TZNAME:CST
DTSTART:20241103T070000
END:STANDARD
BEGIN:DAYLIGHT
TZOFFSETFROM:-0600
TZOFFSETTO:-0500
TZNAME:CDT
DTSTART:20250309T080000
END:DAYLIGHT
BEGIN:STANDARD
TZOFFSETFROM:-0500
TZOFFSETTO:-0600
TZNAME:CST
DTSTART:20251102T070000
END:STANDARD
END:VTIMEZONE
BEGIN:VEVENT
DTSTART;TZID=America/Chicago:20240506T170000
DTEND;TZID=America/Chicago:20240506T183000
DTSTAMP:20260423T234233
CREATED:20221202T183159Z
LAST-MODIFIED:20240501T192741Z
UID:10000217-1715014800-1715020200@saintpaulbirdalliance.org
SUMMARY:Saint Paul Audubon Board Meeting
DESCRIPTION:The Saint Paul Audubon Society board meetings are held at 5 p.m. on the first Monday of every month\, September through May. The meetings are open to all members\, but please email us at general@saintpaulbirdalliance.org to let us know you are coming. The meeting rooms have limited space\, and we want to ensure we can accommodate you. \n 
URL:https://saintpaulbirdalliance.org/event/spas-board-meeting-2/
LOCATION:Aŋpétu Téča Education Center\, Roseville\, MN\, 1910 County B Road West\, Rm 207\, Roseville\, MN\, 55113\, United States
CATEGORIES:Board Meeting
ORGANIZER;CN="Saint Paul Bird Alliance":MAILTO:General@saintpaulbirdalliance.org
END:VEVENT
BEGIN:VEVENT
DTSTART;TZID=America/Chicago:20240509T190000
DTEND;TZID=America/Chicago:20240509T203000
DTSTAMP:20260423T234233
CREATED:20240323T144406Z
LAST-MODIFIED:20240509T230826Z
UID:10000310-1715281200-1715286600@saintpaulbirdalliance.org
SUMMARY:EVENT CANCELED DUE TO ILLNESS - Monthly Chapter Meeting
DESCRIPTION:  \n  \n 
URL:https://saintpaulbirdalliance.org/event/monthly-chapter-meeting-wta/
LOCATION:Aŋpétu Téča Education Center\, Roseville\, MN\, 1910 County B Road West\, Rm 207\, Roseville\, MN\, 55113\, United States
CATEGORIES:Monthly Chapter Meeting,Speaker Series
ORGANIZER;CN="Saint Paul Bird Alliance":MAILTO:General@saintpaulbirdalliance.org
END:VEVENT
BEGIN:VEVENT
DTSTART;TZID=America/Chicago:20240516T070000
DTEND;TZID=America/Chicago:20240516T100000
DTSTAMP:20260423T234233
CREATED:20240327T014306Z
LAST-MODIFIED:20240327T014310Z
UID:10000306-1715842800-1715853600@saintpaulbirdalliance.org
SUMMARY:Migrant and Nesting Birds Murphy-Hanrehan Park Reserve
DESCRIPTION:15501 Murphy Lake Blvd\, Savage\, MN 55378 \nThursday\, May 16\, 7-10 AM \nOne of the best birding areas in Twin Cities Metro! Focus is on songs/calls of nesting birds in a hardwood forest as well as spring migrants. Hooded warbler is a target species. \nDIRECTIONS      Head south from Minneapolis on 35W. Take Exit 2 for Burnsville Pkwy. Turn L on Burnsville Pkwy.\, go 2.1 miles. Turn right on Burnsville Pkwy W.\, go 1.6 miles. Continue straight ahead on Hanrehan Lake Blvd.\, go 1.1 miles. At the traffic circle take 2nd exit onto Murphy Lake Blvd.\, go 0.1 mile. Turn left into Park. Meet in parking lot.  44.724223\, -93.348243 \nREGISTRATION     None \nDIFFICULTY      Approximately 3+ miles on wide\, natural grass and dirt trails (some areas slightly rocky) with some moderate\, long hills. This is our longest and most challenging trip. Pit toilets available at main trailhead \nnear parking lot. \nLEADER     Bill Stjern\, norskestar@comcast.net 651- 458-1542
URL:https://saintpaulbirdalliance.org/event/migrant-and-nesting-birds-murphy-hanrehan-park-reserve-2/
LOCATION:Murphy Hanrehan Park Reserve\, Savage\, MN\, 15501 Murphy Lake Blvd\, Savage\, MN\, 55378\, United States
CATEGORIES:Bird Walk,Field Trip
ATTACH;FMTTYPE=image/jpeg:https://saintpaulbirdalliance.org/wp-content/uploads/2023/03/hooded-warbler.jpg
ORGANIZER;CN="Saint Paul Bird Alliance":MAILTO:General@saintpaulbirdalliance.org
END:VEVENT
BEGIN:VEVENT
DTSTART;TZID=America/Chicago:20240518T120000
DTEND;TZID=America/Chicago:20240518T150000
DTSTAMP:20260423T234233
CREATED:20240507T135420Z
LAST-MODIFIED:20240507T135909Z
UID:10000322-1716033600-1716044400@saintpaulbirdalliance.org
SUMMARY:Birds & Bugs Sketch Fest
DESCRIPTION:Join urban sketchers to watch and draw birds and insects.  Bring your art materials or use the ones that we will supply.  This is a beautiful way to slow down and observe the incredible nature around us.  The event is family-friendly\, and all skill levels are welcome.  More information is available at www.frogtowngreen.com – 651-757-5970 \nCo-Hosted by Frogtown Green and Saint Paul Audubon
URL:https://saintpaulbirdalliance.org/event/birds-bugs-sketch-fest/
LOCATION:FrogTown Park & Farm\, 946 W. Minnehaha\, St. Paul\, 946 W. Minnehaha\, Saint Paul\, United States
ATTACH;FMTTYPE=application/pdf:https://saintpaulbirdalliance.org/wp-content/uploads/2024/05/Flyers-2024-Bird-sketching.pdf
ORGANIZER;CN="Saint Paul Bird Alliance":MAILTO:General@saintpaulbirdalliance.org
END:VEVENT
BEGIN:VEVENT
DTSTART;TZID=America/Chicago:20240520T190000
DTEND;TZID=America/Chicago:20240520T210000
DTSTAMP:20260423T234233
CREATED:20240508T015417Z
LAST-MODIFIED:20240508T015417Z
UID:10000324-1716231600-1716238800@saintpaulbirdalliance.org
SUMMARY:Birdie Big Year: Elevating Women Birders with Tiffany Kersten
DESCRIPTION:Presented by Tiffany Kersten\, 2021 Big Year record holder and professional bird guide. \nTiffany Kersten didn’t set out to do a Big Year\, but after a series of unanticipated and serendipitous events\, she suddenly found herself amidst one. As a sexual assault survivor\, she spent 2021 traveling to all corners of the Lower 48 States\, tallying birds and gifting personal safety alarms to women she met along the way. Her goal was to see 700 species and raise awareness of women’s safety outdoors. She surpassed her goal and set a new record of 726 species. In her presentation\, Tiffany will lead us through the fear\, empowerment\, struggles\, and healing that all played vital roles in the personal growth she experienced on this wild adventure. \n  \nProgram Fee: This program is FREE\, thanks to sponsorship from the Saint Paul Audubon Society and Wild River Audubon Society. However\, SPACE IS LIMITED AND PRE-REGISTRATION IS REQUIRED. \nRegistration: Click here to Register Online.
URL:https://saintpaulbirdalliance.org/event/birdie-big-year-elevating-women-birders-with-tiffany-kersten/
LOCATION:Carpenter Nature Center 12805 St. Croix trails S\, Hastings MN\, 12805 St. Croix Trails S.\, Hastings\, MN\, 55003\, United States
ATTACH;FMTTYPE=image/jpeg:https://saintpaulbirdalliance.org/wp-content/uploads/2024/05/Tiffany-Kersten-scaled-e1712936564984-845x321-1.jpeg
ORGANIZER;CN="Saint Paul Bird Alliance":MAILTO:General@saintpaulbirdalliance.org
END:VEVENT
BEGIN:VEVENT
DTSTART;TZID=America/Chicago:20240522T180000
DTEND;TZID=America/Chicago:20240522T210000
DTSTAMP:20260423T234233
CREATED:20240519T104512Z
LAST-MODIFIED:20240519T104512Z
UID:10000326-1716400800-1716411600@saintpaulbirdalliance.org
SUMMARY:Birds and Beers Saint Paul!
DESCRIPTION:A monthly gathering to meet other birders and talk about birds! We gather in the Ashland Room at Sweeney’s Saloon to visit over a meal and beverages.
URL:https://saintpaulbirdalliance.org/event/birds-and-beers-saint-paul-7/
LOCATION:Sweeney’s Saloon\, 96 Dale St N\, Saint Paul\, MN\, 55102\, United States
CATEGORIES:Special Event
ATTACH;FMTTYPE=image/jpeg:https://saintpaulbirdalliance.org/wp-content/uploads/2023/03/hooded-warbler.jpg
ORGANIZER;CN="Saint Paul Bird Alliance":MAILTO:General@saintpaulbirdalliance.org
END:VEVENT
BEGIN:VEVENT
DTSTART;TZID=America/Chicago:20240531T073000
DTEND;TZID=America/Chicago:20240531T103000
DTSTAMP:20260423T234233
CREATED:20240504T144057Z
LAST-MODIFIED:20240504T150244Z
UID:10000313-1717140600-1717151400@saintpaulbirdalliance.org
SUMMARY:Bike & Bird - Samuel H. Morgan Regional Trail
DESCRIPTION:Our Bike & Bird roster is growing! This year there will be 3 Friday morning trips (May 31\, June 14\, June 28) and  5 Sunday morning trips (June 2\, June 23\, July 14\, August 4\, September 15) – All led by Sherry Gray. \nFriday\, May 31: Samuel H. Morgan Regional Trail (https://www.traillink.com/trail/samuel-h-morgan-regional-trail/) from Upper Landing Park in downtown St. Paul 3 miles to Crosby Farm Park\, then another 3 or so miles to Hidden Falls Park\, and return. \nLOCATION     Meet on bikes at 226 Spring St\, St Paul\, MN 55102 in Saint Paul. (44.940168120270926\, -93.09965740094373) \nDIFFICULTY      Route is paved\, mostly off road bike trail (shared with peds) along the Mississippi River and can be hilly. Crosby Farm Park offers river access\, a lake\, wooded areas\, and toilets and water. \nINFORMATION     Bring bicycle\, helmet\, binoculars\, snacks\, sunscreen and water. Leader will bring a first aid kit. \nREGISTRATION     Required and limited to 8 participants. CONTACT   sherrygray@yahoo.com  with questions and/or to register.  Participants will be asked to sign a liability release form at the start of the trip.
URL:https://saintpaulbirdalliance.org/event/bird-bike-samuel-h-morgan-regional-trail/
LOCATION:Upper Landing Park\, 226 Spring St\, St Paul\, MN\, 55102\, United States
CATEGORIES:Field Trip
ATTACH;FMTTYPE=image/jpeg:https://saintpaulbirdalliance.org/wp-content/uploads/2024/04/226-Spring-Street.jpg
ORGANIZER;CN="Saint Paul Bird Alliance":MAILTO:General@saintpaulbirdalliance.org
END:VEVENT
END:VCALENDAR