BEGIN:VCALENDAR
VERSION:2.0
PRODID:-//Saint Paul Bird Alliance - ECPv6.15.20//NONSGML v1.0//EN
CALSCALE:GREGORIAN
METHOD:PUBLISH
X-ORIGINAL-URL:https://saintpaulbirdalliance.org
X-WR-CALDESC:Events for Saint Paul Bird Alliance
REFRESH-INTERVAL;VALUE=DURATION:PT1H
X-Robots-Tag:noindex
X-PUBLISHED-TTL:PT1H
BEGIN:VTIMEZONE
TZID:America/Chicago
BEGIN:DAYLIGHT
TZOFFSETFROM:-0600
TZOFFSETTO:-0500
TZNAME:CDT
DTSTART:20230312T080000
END:DAYLIGHT
BEGIN:STANDARD
TZOFFSETFROM:-0500
TZOFFSETTO:-0600
TZNAME:CST
DTSTART:20231105T070000
END:STANDARD
BEGIN:DAYLIGHT
TZOFFSETFROM:-0600
TZOFFSETTO:-0500
TZNAME:CDT
DTSTART:20240310T080000
END:DAYLIGHT
BEGIN:STANDARD
TZOFFSETFROM:-0500
TZOFFSETTO:-0600
TZNAME:CST
DTSTART:20241103T070000
END:STANDARD
BEGIN:DAYLIGHT
TZOFFSETFROM:-0600
TZOFFSETTO:-0500
TZNAME:CDT
DTSTART:20250309T080000
END:DAYLIGHT
BEGIN:STANDARD
TZOFFSETFROM:-0500
TZOFFSETTO:-0600
TZNAME:CST
DTSTART:20251102T070000
END:STANDARD
END:VTIMEZONE
BEGIN:VEVENT
DTSTART;TZID=America/Chicago:20240901T083000
DTEND;TZID=America/Chicago:20240901T120000
DTSTAMP:20260423T073934
CREATED:20240728T193849Z
LAST-MODIFIED:20240728T194016Z
UID:10000337-1725179400-1725192000@saintpaulbirdalliance.org
SUMMARY:Bike & Bird - Sherburne NWR Prairie's Edge Wildlife Drive
DESCRIPTION:This trip was previously scheduled on August 4. It is now offered on September 1. Discover the fun of birding from a bicycle on the gravel road of the Prairie’s Edge Wildlife Drive\, seven miles (road shared with cars\, ground squirrels and turtles).  Landscape includes wetlands\, grassland and wooded/shrubby areas.  A hybrid or street bike that can handle gravel roads\, or a mountain bike\, is recommended (racing style\, skinny tires probably not best here). \nLOCATION      Sherburne NWR is located in Zimmerman\, MN\, about 60 miles NW of Saint Paul. https://www.fws.gov/refuge/sherburne \nDIRECTIONS     Meet in the parking lot at the start of the Prairie’s Edge Wildlife Drive \nINFORMATION     Bring bicycle\, helmet with sun visor\, binoculars\, lunch\, snacks\, sunscreen and water. Leader will bring a scope and first aid kit. There are no picnic tables and few benches\, so birders encouraged to bring something to sit upon for lunch break. There are short walking trails along the route\, so a bike lock is useful. \nREGISTRATION     Required and limited to 8 participants. CONTACT   sherrygray@yahoo.com  to register.  Participants will be asked to sign a liability release form at the start of the trip. \nDIFFICULTY    Easy\, mostly level\, graded seven-mile route with good visibility. As group will hear and see many birds\, riding pace is relaxed. Birders and bicyclists of all levels\, including newbies\, very welcome to join. \nLEADER     Sherry Gray   sherrygray@yahoo.com \n 
URL:https://saintpaulbirdalliance.org/event/bike-bird-sherburne-nwr-prairies-edge-wildlife-drive-2/
LOCATION:Sherburne NWR Prairie’s Edge Wildlife Drive\, 17076 293rd Ave NW\, Zimmerman\, MN\, 55398\, United States
CATEGORIES:Field Trip
ATTACH;FMTTYPE=image/jpeg:https://saintpaulbirdalliance.org/wp-content/uploads/2024/04/Sherburne-NWF-Prairies-Edge-Wildlife-Drive.jpg
ORGANIZER;CN="Saint Paul Bird Alliance":MAILTO:General@saintpaulbirdalliance.org
END:VEVENT
BEGIN:VEVENT
DTSTART;TZID=America/Chicago:20240912T190000
DTEND;TZID=America/Chicago:20240912T203000
DTSTAMP:20260423T073934
CREATED:20240812T133242Z
LAST-MODIFIED:20240904T211557Z
UID:10000338-1726167600-1726173000@saintpaulbirdalliance.org
SUMMARY:Monthly Chapter Meeting | John Gregor - Birds of Mexico
DESCRIPTION:John Gregor\, ColdSnap Photography\, presents “The Birds of Mexico.” John Gregor\, who has 45 years of professional photography experience and lives part of the year in Mexico\, will show the variety of birds found in Mexico and talk about where the best birding spots are\, how to locate birds in the wild\, and tips on getting the best photographs.  \nGregor has owned and operated ColdSnap Photography for more than 30 years. He has a BA from the University of Minnesota and a Master’s of Education through St. Scholastica College\, emphasizing photographic literacy. He leads tours and conducts workshops in the U.S. and beyond.  \nCome for an evening of stunning photography and pick up a tip or two!  \nZOOM LINK
URL:https://saintpaulbirdalliance.org/event/monthly-chapter-meeting-birds-of-mexico/
LOCATION:Aŋpétu Téča Education Center\, Roseville\, MN\, 1910 County B Road West\, Rm 207\, Roseville\, MN\, 55113\, United States
CATEGORIES:Monthly Chapter Meeting,Speaker Series
ATTACH;FMTTYPE=image/jpeg:https://saintpaulbirdalliance.org/wp-content/uploads/2024/08/Johns-Portrait.jpeg
ORGANIZER;CN="Saint Paul Bird Alliance":MAILTO:General@saintpaulbirdalliance.org
END:VEVENT
END:VCALENDAR