BEGIN:VCALENDAR
VERSION:2.0
PRODID:-//Saint Paul Bird Alliance - ECPv6.15.20//NONSGML v1.0//EN
CALSCALE:GREGORIAN
METHOD:PUBLISH
X-WR-CALNAME:Saint Paul Bird Alliance
X-ORIGINAL-URL:https://saintpaulbirdalliance.org
X-WR-CALDESC:Events for Saint Paul Bird Alliance
REFRESH-INTERVAL;VALUE=DURATION:PT1H
X-Robots-Tag:noindex
X-PUBLISHED-TTL:PT1H
BEGIN:VTIMEZONE
TZID:America/Chicago
BEGIN:DAYLIGHT
TZOFFSETFROM:-0600
TZOFFSETTO:-0500
TZNAME:CDT
DTSTART:20250309T080000
END:DAYLIGHT
BEGIN:STANDARD
TZOFFSETFROM:-0500
TZOFFSETTO:-0600
TZNAME:CST
DTSTART:20251102T070000
END:STANDARD
BEGIN:DAYLIGHT
TZOFFSETFROM:-0600
TZOFFSETTO:-0500
TZNAME:CDT
DTSTART:20260308T080000
END:DAYLIGHT
BEGIN:STANDARD
TZOFFSETFROM:-0500
TZOFFSETTO:-0600
TZNAME:CST
DTSTART:20261101T070000
END:STANDARD
BEGIN:DAYLIGHT
TZOFFSETFROM:-0600
TZOFFSETTO:-0500
TZNAME:CDT
DTSTART:20270314T080000
END:DAYLIGHT
BEGIN:STANDARD
TZOFFSETFROM:-0500
TZOFFSETTO:-0600
TZNAME:CST
DTSTART:20271107T070000
END:STANDARD
END:VTIMEZONE
BEGIN:VEVENT
DTSTART;TZID=America/Chicago:20260303T093000
DTEND;TZID=America/Chicago:20260303T113000
DTSTAMP:20260420T134540
CREATED:20260213T142816Z
LAST-MODIFIED:20260213T142816Z
UID:10000418-1772530200-1772537400@saintpaulbirdalliance.org
SUMMARY:Birding & Tracking on World Wildlife Day
DESCRIPTION:Location: Pig’s Eye Chokan Tanka Park\, 2165 Pigs Eye Lake Road\, St. Paul 55119 \nCome celebrate World Wildlife Day by looking at animal tracks in the snow at Pig’s Eye Chôkan Tanka Park. We may see deer\, coyote\, vole\, and bird tracks. Perhaps we will see signs in the snow of a Northern Shrike snatching a mouse! We’ll hold the event even if a warmup arrives and melts all the snow. Then we will look for tracks in the mud! The habitat at Pig’s Eye is grassland\, wetlands\, floodplain forest\, and waterways of Battle Creek and Pig’s Eye Lake. \n\nINFORMATION: Bring binoculars\, a camera phone\, a field guide\, a sketch pad & pencil\, if you can. We will have loaner binoculars and field guides available. Dress for the weather: hats\, mittens\, a scarf\, and waterproof snow boots are advised. The closest facility is port-a-potty at the nearby Wood Chipper operation. \nDIRECTIONS: If you are coming to this park for the first time\, please reach out to trip leaders for more detailed instructions. The Warner Road / Childs Lake Road / Pigs Eye Lake Road intersections are a bit challenging. Meet in the parking lot at the far end of the entrance road from the sign Pig’s Eye Chôkan Tanka Park. \nREGISTRATION: None \nEVENT WILL BE CANCELED IF Blizzard conditions and / or windchill temperatures below -25 are predicted. \nDIFFICULTY:  We will be walking on a snow-packed trail for a mile in and a mile out. The trail is fairly flat\, with slow dip in grade on the approach to and from the concrete bridge over the creek. The trail may be icy depending on weather conditions. \nLEADERS: Kiki Sonnen  kikisonnen@gmail.com \nAnd Kathy Sidles kesid@aol.com \n\n 
URL:https://saintpaulbirdalliance.org/event/birding-tracking-world-wildlife-day/
LOCATION:Pig’s Eye Regional Park\, 2165 Pigs Eye Lake Road\, Saint Paul\, MN\, 55119\, United States
CATEGORIES:Bird Walk,Field Trip
ATTACH;FMTTYPE=image/jpeg:https://saintpaulbirdalliance.org/wp-content/uploads/2026/02/6395A9D0-4F83-4BE7-BC2E-945C6877FFD1-scaled.jpeg
ORGANIZER;CN="Saint Paul Bird Alliance":MAILTO:General@saintpaulbirdalliance.org
END:VEVENT
BEGIN:VEVENT
DTSTART;TZID=America/Chicago:20260312T190000
DTEND;TZID=America/Chicago:20260312T203000
DTSTAMP:20260420T134540
CREATED:20251213T172513Z
LAST-MODIFIED:20260309T124158Z
UID:10000403-1773342000-1773347400@saintpaulbirdalliance.org
SUMMARY:Hope Flanagan - Ojibwe Legends of our Insect World
DESCRIPTION:Ojibwe Legends of our Insect World\nMarch 12 – 7 pm\nAŋpétu Téča Education Center\, Roseville\, MN\n1910 County B Road West\, Rm 207\nRoseville\, MN 55113 \nIn-Person ONLY – No Registration Needed \nCo-Sponsored with Land of Lakes Bird Alliance \nWinter is traditionally storytelling season in our Native communities in Minnesota. Many Ojibwe legends (Aadizookaanag) honor our natural world\, and Hope will share some of her favorites with us. \nHope Flanagan is an elder who has taught and worked in the Twin Cities Native Community since the late 1970s. She is a long-time Community Outreach and cultural teacher at Dream of Wild Health. Before that\, Hope taught in an Ojibwe Immersion classroom for 10 years and served as a storyteller for Minneapolis Public Schools. She teaches about plants and wild plant gathering and is also a leader for Urban Bird Collective walks. \nDream of Wild Health – https://dreamofwildhealth.org/ \nUrban Bird Collective – https://urbanbirdcollective.org/ \nThis presentation will be in-person only – no Zoom or Recording
URL:https://saintpaulbirdalliance.org/event/hope-flanagan-ojibwe-legends/
LOCATION:Aŋpétu Téča Education Center\, Roseville\, MN\, 1910 County B Road West\, Rm 207\, Roseville\, MN\, 55113\, United States
CATEGORIES:Monthly Chapter Meeting,Speaker Series
ATTACH;FMTTYPE=image/png:https://saintpaulbirdalliance.org/wp-content/uploads/2025/12/HopeF.png
ORGANIZER;CN="Saint Paul Bird Alliance":MAILTO:General@saintpaulbirdalliance.org
END:VEVENT
BEGIN:VEVENT
DTSTART;TZID=America/Chicago:20260317T140000
DTEND;TZID=America/Chicago:20260317T160000
DTSTAMP:20260420T134540
CREATED:20260213T143319Z
LAST-MODIFIED:20260311T135145Z
UID:10000420-1773756000-1773763200@saintpaulbirdalliance.org
SUMMARY:Birding through the Months at Silverwood Park
DESCRIPTION:This is the 2nd of a 4-trip Silverwood Park birding experience (February through May). Attend one or all the trips! \nSilverwood Park is a beautiful urban park on the shores of Silver Lake. The park’s variety of habitats — oak forest\, marsh\, grassland\, and lakefront — makes it a great birding destination\, with over 180 species sighted there. \nBirding at a single location over several months can be a great way to get started. This series of four field trips will repeat popular excursions from last year\, giving participants the chance to get to know the park and watch for different birds each month as the seasons change. In addition to getting to know the birds of Silverwood\, participants will also be introduced to basic birding techniques and tools\, including digital resources. Participants are encouraged to bring their own binoculars; a few extra pairs will be available. \nDIRECTIONS:     Meet at the doors leading into the Visitor Center from the parking lot. Field trips will be conducted in most weather\, with the exception of heavy rain.  45.046808\, -93.224715 \nREGISTRATION:     No registration necessary. Come for any of the sessions–attending all is not required. \nACCESSIBILITY:    Most paths are paved\, but may be icy in the winter. Walks will range from 1-1.5 miles. \nLEADERS:      Jen Miller and Liz Richards; email birdingjen@gmail.com with any questions \n  \nTuesday\, February 24: 2-4 PM   \nBirding in the winter is a great way to get comfortable with the species that live in the park year-round–plus\, there are no leaves on the trees to get in the way of seeing birds! This month\, we’ll look for common Minnesota winter birds such as chickadees and nuthatches\, along with several woodpecker species. We might even get lucky and see the park’s resident great horned owls as they start nesting. \nTuesday\, March 17: 2-4 PM \nIn March\, we will begin to see some early migrants returning to the park — waterfowl\, perhaps robins\, and red-winged blackbirds. We’ll also notice an increase in bird songs that we will learn to identify. \nTuesday\, April 14: 2-4 PM \nApril showers melt the ice on Silver Lake\, which brings more waterfowl\, along with sparrows\, swallows\, and maybe even some early warblers or phoebes. With some luck\, we might catch a glimpse of a migrating shorebird along the lakeshore or see the fluffy head of an owlet. \nTuesday\, May 12: 2-4 PM \nMay brings warblers\, warblers\, and more warblers! We’ll also begin to see some of the park’s beautiful summer residents\, including orioles\, rose-breasted grosbeaks\, and bluebirds. While the leaves returning to the trees make seeing birds more challenging\, the park’s variety of species in May makes this one of the most exciting times of year for birding. \n  \n 
URL:https://saintpaulbirdalliance.org/event/birding-through-the-months-at-silverwood-park-march-2026/
LOCATION:Silverwood Regional Park\, St Anthony\, MN\, 2500 County Rd E\, St Anthony\, 55421
CATEGORIES:Birding,Field Trip
ATTACH;FMTTYPE=image/jpeg:https://saintpaulbirdalliance.org/wp-content/uploads/2016/12/white-breasted-nuthatch_vc.jpg
ORGANIZER;CN="Saint Paul Bird Alliance":MAILTO:General@saintpaulbirdalliance.org
END:VEVENT
BEGIN:VEVENT
DTSTART;TZID=America/Chicago:20260318T173000
DTEND;TZID=America/Chicago:20260318T203000
DTSTAMP:20260420T134540
CREATED:20260304T220921Z
LAST-MODIFIED:20260304T221046Z
UID:10000435-1773855000-1773865800@saintpaulbirdalliance.org
SUMMARY:Birds and Beers Saint Paul!
DESCRIPTION:You’d better come to Birds & Beers so we can discuss Horned Larks & other Early Birds. We’ll gather on Wednesday\, March 18\, at Sweeney’s\, 96 N. Dale St.\, St. Paul\, at 5:30 pm. All are welcome! \nPhoto Credit: Andy Raupp/Audubon Photography Awards
URL:https://saintpaulbirdalliance.org/event/birds-and-beers-saint-paul-15/
LOCATION:Sweeney’s Saloon\, 96 Dale St N\, Saint Paul\, MN\, 55102\, United States
CATEGORIES:Special Event
ATTACH;FMTTYPE=image/jpeg:https://saintpaulbirdalliance.org/wp-content/uploads/2026/03/Aud_APA-2021_Horned-Lark_A1_15340-2_TS_Photo-Andy-Raupp-Web-size-scaled-e1772662231691.jpeg
ORGANIZER;CN="Saint Paul Bird Alliance":MAILTO:General@saintpaulbirdalliance.org
END:VEVENT
BEGIN:VEVENT
DTSTART;TZID=America/Chicago:20260321T093000
DTEND;TZID=America/Chicago:20260321T113000
DTSTAMP:20260420T134540
CREATED:20260213T143607Z
LAST-MODIFIED:20260311T135001Z
UID:10000421-1774085400-1774092600@saintpaulbirdalliance.org
SUMMARY:Welcome Herons on the Spring Equinox
DESCRIPTION:Location: Pig’s Eye Chokan Tanka Park\, 2165 Pigs Eye Lake Road\, St. Paul 55119 \nCome celebrate the return of Herons at Pigs Eye. \n\nINFORMATION: Bring binoculars\, a camera phone\, a field guide\, a sketch pad & pencil\, if you can. We will have loaner binoculars and field guides available. Dress for the weather: hats\, mittens\, a scarf\, and waterproof snow boots are advised. The closest facility is a porta-potty at the nearby Wood Chipper operation. \nDIRECTIONS: If you are coming to this park for the first time\, please reach out to the trip leaders for more detailed instructions. The Warner Road / Childs Lake Road / Pigs Eye Lake Road intersections are a bit challenging. Meet in the parking lot at the far end of the entrance road from the sign Pig’s Eye Chôkan Tanka Park. \nREGISTRATION: None \nACCESSIBILITY:  We will be walking on a snow-packed trail for a mile in and a mile out. The trail is fairly flat\, with slow dip in grade on the approach to and from the concrete bridge over the creek. The trail may be icy depending on weather conditions. \nLEADERS: Kiki Sonnen  kikisonnen@gmail.com \nAnd Kathy Sidles kesid@aol.com \n\nPhoto – Audubon Library Jerry Waters
URL:https://saintpaulbirdalliance.org/event/welcome-herons-spring-equinox/
LOCATION:Pig’s Eye Regional Park\, 2165 Pigs Eye Lake Road\, Saint Paul\, MN\, 55119\, United States
CATEGORIES:Bird Walk,Field Trip
ATTACH;FMTTYPE=image/jpeg:https://saintpaulbirdalliance.org/wp-content/uploads/2026/02/Aud_APA-2012_Great-Blue-Heron_24691-191880_Photo-Jerry-Waters-Web-size-scaled.jpg
ORGANIZER;CN="Saint Paul Bird Alliance":MAILTO:General@saintpaulbirdalliance.org
END:VEVENT
BEGIN:VEVENT
DTSTART;TZID=America/Chicago:20260324T093000
DTEND;TZID=America/Chicago:20260324T113000
DTSTAMP:20260420T134540
CREATED:20260309T213843Z
LAST-MODIFIED:20260311T134854Z
UID:10000437-1774344600-1774351800@saintpaulbirdalliance.org
SUMMARY:Welcome Back Kestrels!
DESCRIPTION:Tuesday\, March 24\, 9:30 – 11:30 am & Saturday\, March 28\, 9;30 – 11:30 (attend one or both events) \nPigs Eye Chôkan Tanka Park\, 2165 Pig’s Eye Lake Road\, St Paul \n\nEVENT OVERVIEW: You’re Invited to the Welcome Back Kestrels Party! Our birds\, many of whom have been wintering in warmer climes\, know that Spring is back in Minnesota. They also know that nesting spots are at a premium\, so they have to get back here in a hurry to stake their claim. At both events\, you will also be able to talk with Kestrel Nest Box Monitor Volunteers. \n\nINFORMATION: Bring binoculars\, a camera phone\, a field guide\, a sketch pad & pencil\, if you can. We will have loaner binoculars and field guides available. Dress for the weather. The closest facility is a porta-potty at the nearby Wood Chipper operation. \nDIRECTIONS: If you are coming to this park for the first time\, please reach out to the trip leaders for more detailed instructions. The Warner Road / Childs Lake Road / Pigs Eye Lake Road intersections are a bit challenging. Meet in the parking lot at the far end of the entrance road from the sign Pig’s Eye Chôkan Tanka Park. \nREGISTRATION: None \n\nACCESSIBILITY: We will be walking 1/2 mile in and 1/2 mile out. The trail is fairly flat with a slow dip in grade on the approach to and from the concrete bridge over Battle Creek. The walk will be on a truck trail which may be muddy and rutted. There are no benches. Bring a camp stool if you would like to rest. The closest facilities is a port-a-potty at the nearby Wood Chipper operation. \nLEADER: Kiki Sonnen kikisonnen@gmail.com \nAmerican Kestrel (photo by Sam Swartley / Audubon Photography Awards)
URL:https://saintpaulbirdalliance.org/event/welcome-back-kestrels/
LOCATION:Pig’s Eye Regional Park\, 2165 Pigs Eye Lake Road\, Saint Paul\, MN\, 55119\, United States
ATTACH;FMTTYPE=image/jpeg:https://saintpaulbirdalliance.org/wp-content/uploads/2026/03/Kestral_IMG_7944-e1773093250472.jpg
ORGANIZER;CN="Saint Paul Bird Alliance":MAILTO:General@saintpaulbirdalliance.org
END:VEVENT
BEGIN:VEVENT
DTSTART;TZID=America/Chicago:20260328T093000
DTEND;TZID=America/Chicago:20260328T113000
DTSTAMP:20260420T134540
CREATED:20260309T214325Z
LAST-MODIFIED:20260311T224016Z
UID:10000438-1774690200-1774697400@saintpaulbirdalliance.org
SUMMARY:Welcome Back Kestrels!
DESCRIPTION:Saturday\, March 28\, 9;30 – 11:30 am \nPigs Eye Chôkan Tanka Park\, 2165 Pig’s Eye Lake Road\, St Paul \nEVENT OVERVIEW: You’re Invited to the Welcome Back Kestrels Party! Our birds\, many of whom have been wintering in warmer climes\, know that Spring is back in Minnesota. They also know that nesting spots are at a premium\, so they have to get back here in a hurry to stake their claim. At both events\, you will also be able to talk with Kestrel Nest Box Monitor Volunteers. \n\nINFORMATION: Bring binoculars\, a camera phone\, a field guide\, a sketch pad & pencil\, if you can. We will have loaner binoculars and field guides available. Dress for the weather. The closest facility is a porta-potty at the nearby Wood Chipper operation. \nDIRECTIONS: If you are coming to this park for the first time\, please reach out to the trip leaders for more detailed instructions. The Warner Road / Childs Lake Road / Pigs Eye Lake Road intersections are a bit challenging. Meet in the parking lot at the far end of the entrance road from the sign Pig’s Eye Chôkan Tanka Park. \nREGISTRATION: None \n\nACCESSIBILITY: We will be walking 1/2 mile in and 1/2 mile out. The trail is fairly flat with a slow dip in grade on the approach to and from the concrete bridge over Battle Creek. The walk will be on a truck trail which may be muddy and rutted. There are no benches. Bring a camp stool if you would like to rest. The closest facilities is a port-a-potty at the nearby Wood Chipper operation. \nLEADER: Kiki Sonnen kikisonnen@gmail.com \nAmerican Kestrel (photo by Sam Swartley / Audubon Photography Awards)
URL:https://saintpaulbirdalliance.org/event/welcome-back-kestrels-2/
LOCATION:Pig’s Eye Regional Park\, 2165 Pigs Eye Lake Road\, Saint Paul\, MN\, 55119\, United States
ATTACH;FMTTYPE=image/jpeg:https://saintpaulbirdalliance.org/wp-content/uploads/2026/03/Kestral_IMG_7944-e1773093250472.jpg
ORGANIZER;CN="Saint Paul Bird Alliance":MAILTO:General@saintpaulbirdalliance.org
END:VEVENT
END:VCALENDAR