BEGIN:VCALENDAR
VERSION:2.0
PRODID:-//Saint Paul Bird Alliance - ECPv6.15.20//NONSGML v1.0//EN
CALSCALE:GREGORIAN
METHOD:PUBLISH
X-WR-CALNAME:Saint Paul Bird Alliance
X-ORIGINAL-URL:https://saintpaulbirdalliance.org
X-WR-CALDESC:Events for Saint Paul Bird Alliance
REFRESH-INTERVAL;VALUE=DURATION:PT1H
X-Robots-Tag:noindex
X-PUBLISHED-TTL:PT1H
BEGIN:VTIMEZONE
TZID:America/Chicago
BEGIN:DAYLIGHT
TZOFFSETFROM:-0600
TZOFFSETTO:-0500
TZNAME:CDT
DTSTART:20240310T080000
END:DAYLIGHT
BEGIN:STANDARD
TZOFFSETFROM:-0500
TZOFFSETTO:-0600
TZNAME:CST
DTSTART:20241103T070000
END:STANDARD
BEGIN:DAYLIGHT
TZOFFSETFROM:-0600
TZOFFSETTO:-0500
TZNAME:CDT
DTSTART:20250309T080000
END:DAYLIGHT
BEGIN:STANDARD
TZOFFSETFROM:-0500
TZOFFSETTO:-0600
TZNAME:CST
DTSTART:20251102T070000
END:STANDARD
BEGIN:DAYLIGHT
TZOFFSETFROM:-0600
TZOFFSETTO:-0500
TZNAME:CDT
DTSTART:20260308T080000
END:DAYLIGHT
BEGIN:STANDARD
TZOFFSETFROM:-0500
TZOFFSETTO:-0600
TZNAME:CST
DTSTART:20261101T070000
END:STANDARD
END:VTIMEZONE
BEGIN:VEVENT
DTSTART;TZID=America/Chicago:20250615T080000
DTEND;TZID=America/Chicago:20250615T100000
DTSTAMP:20260423T190911
CREATED:20230401T023845Z
LAST-MODIFIED:20250609T011506Z
UID:10000202-1749974400-1749981600@saintpaulbirdalliance.org
SUMMARY:Let's Go Birding Together at Battle Creek Park
DESCRIPTION:2350 Upper Afton Rd\, Maplewood\, MN 55119 \nSunday\, June 15\, 8:00-10:00 AM \nJoin in a fun birding outing. Saint Paul Bird Alliance\, the  St. Paul Public Library and the Urban Bird Collective  invite you\, your friends and family on this birding adventure. All levels of birding skills are welcome. Loaner binoculars and field guide books will be available for you to use. \nDIRECTIONS     From McKnight Rd\, turn east onto Upper Afton Rd.\, drive 0.2 mi\, turn right\, and the destination will be on the right. Meet at the parking lot next to the off-leash dog park. 44.940752\, -93.001840 \nINFORMATION       Dress for the weather and wear closed-toe shoes. Bring a brimmed hat\, water\, sunblock\, and bug spray. Loaner binoculars will be available. \nREGISTRATION       Required registration and limited to 15 participants. \nDIFFICULTY     Approximately 0.7-1 mile on paved and maintained grass surfaces with small gradual hills. Porta Potty is available at dog park. Restrooms available at Park Pavilion across Upper Afton Road. \nLEADER/S     Monica Bryand    651-246-5522     mjbryand@gmail.com
URL:https://saintpaulbirdalliance.org/event/beginning-birding-at-battle-creek-park/
LOCATION:Battle Creek Park – Dog Park\, 2350 Upper Afton Rd\, Saint Paul\, MN\, 55119\, United States
CATEGORIES:Birding,Field Trip
ATTACH;FMTTYPE=image/jpeg:https://saintpaulbirdalliance.org/wp-content/uploads/2016/11/Martin-goldfinch.jpg
ORGANIZER;CN="Saint Paul Bird Alliance":MAILTO:General@saintpaulbirdalliance.org
END:VEVENT
END:VCALENDAR