BEGIN:VCALENDAR
VERSION:2.0
PRODID:-//Saint Paul Bird Alliance - ECPv6.15.20//NONSGML v1.0//EN
CALSCALE:GREGORIAN
METHOD:PUBLISH
X-WR-CALNAME:Saint Paul Bird Alliance
X-ORIGINAL-URL:https://saintpaulbirdalliance.org
X-WR-CALDESC:Events for Saint Paul Bird Alliance
REFRESH-INTERVAL;VALUE=DURATION:PT1H
X-Robots-Tag:noindex
X-PUBLISHED-TTL:PT1H
BEGIN:VTIMEZONE
TZID:America/Chicago
BEGIN:DAYLIGHT
TZOFFSETFROM:-0600
TZOFFSETTO:-0500
TZNAME:CDT
DTSTART:20230312T080000
END:DAYLIGHT
BEGIN:STANDARD
TZOFFSETFROM:-0500
TZOFFSETTO:-0600
TZNAME:CST
DTSTART:20231105T070000
END:STANDARD
BEGIN:DAYLIGHT
TZOFFSETFROM:-0600
TZOFFSETTO:-0500
TZNAME:CDT
DTSTART:20240310T080000
END:DAYLIGHT
BEGIN:STANDARD
TZOFFSETFROM:-0500
TZOFFSETTO:-0600
TZNAME:CST
DTSTART:20241103T070000
END:STANDARD
BEGIN:DAYLIGHT
TZOFFSETFROM:-0600
TZOFFSETTO:-0500
TZNAME:CDT
DTSTART:20250309T080000
END:DAYLIGHT
BEGIN:STANDARD
TZOFFSETFROM:-0500
TZOFFSETTO:-0600
TZNAME:CST
DTSTART:20251102T070000
END:STANDARD
END:VTIMEZONE
BEGIN:VEVENT
DTSTART;TZID=America/Chicago:20240616T080000
DTEND;TZID=America/Chicago:20240616T100000
DTSTAMP:20260422T101440
CREATED:20230328T015637Z
LAST-MODIFIED:20240604T161949Z
UID:10000209-1718524800-1718532000@saintpaulbirdalliance.org
SUMMARY:Carpenter Nature Center
DESCRIPTION:12805 St. Croix Trail S.\, Hastings\, MN 55003  \nSunday\, June 16\, 8-10 AM  \nCarpenter is a beautiful nature park on a bluff overlooking the St. Croix River. We will explore a variety of habitats looking for late migratory warblers and summer residents\, and adapt our route based on conditions and what is being seen in the park. \nDIRECTIONS     From St Paul\, take US-10 E/US-61 S to 120th St S in Cottage Grove. Turn left onto 120th St S\, go .7 mi \, 120th St S turns right and becomes Morgan Ave S\, go 0.2 mi. Turn left onto 122nd St S\, go 1.5 mi. Turn right onto St Croix Scenic Bywy/St Croix Trail S\, go 0.5 mi. Turn left\, go 0.2 mi. Meet at the Visitor Center. 44.767646\, -92.814577    Note: Google Maps will route you to a nearby field\, not to the meeting site. \nINFORMATION     Please bring your binoculars and bird book. If you need binoculars\, email Greg before the trip and he will bring an extra pair for you. \nRESGISTRATION     None \nDIFFICULTY     The paths are either paved or wood chip with moderate hills. About 1.5 miles. \nLEADER      Greg Burnes  gburnes@comcast.net  612-205-3071 and Jessie Eckroad Jessie@carpenternaturecenter.org \n 
URL:https://saintpaulbirdalliance.org/event/carpenter-nature-center/
LOCATION:Carpenter Nature Center 12805 St. Croix trails S\, Hastings MN\, 12805 St. Croix Trails S.\, Hastings\, MN\, 55003\, United States
CATEGORIES:Bird Walk,Field Trip
ATTACH;FMTTYPE=image/jpeg:https://saintpaulbirdalliance.org/wp-content/uploads/2020/08/302366931-480px.jpg
ORGANIZER;CN="Saint Paul Bird Alliance":MAILTO:General@saintpaulbirdalliance.org
END:VEVENT
BEGIN:VEVENT
DTSTART;TZID=America/Chicago:20240520T190000
DTEND;TZID=America/Chicago:20240520T210000
DTSTAMP:20260422T101440
CREATED:20240508T015417Z
LAST-MODIFIED:20240508T015417Z
UID:10000324-1716231600-1716238800@saintpaulbirdalliance.org
SUMMARY:Birdie Big Year: Elevating Women Birders with Tiffany Kersten
DESCRIPTION:Presented by Tiffany Kersten\, 2021 Big Year record holder and professional bird guide. \nTiffany Kersten didn’t set out to do a Big Year\, but after a series of unanticipated and serendipitous events\, she suddenly found herself amidst one. As a sexual assault survivor\, she spent 2021 traveling to all corners of the Lower 48 States\, tallying birds and gifting personal safety alarms to women she met along the way. Her goal was to see 700 species and raise awareness of women’s safety outdoors. She surpassed her goal and set a new record of 726 species. In her presentation\, Tiffany will lead us through the fear\, empowerment\, struggles\, and healing that all played vital roles in the personal growth she experienced on this wild adventure. \n  \nProgram Fee: This program is FREE\, thanks to sponsorship from the Saint Paul Audubon Society and Wild River Audubon Society. However\, SPACE IS LIMITED AND PRE-REGISTRATION IS REQUIRED. \nRegistration: Click here to Register Online.
URL:https://saintpaulbirdalliance.org/event/birdie-big-year-elevating-women-birders-with-tiffany-kersten/
LOCATION:Carpenter Nature Center 12805 St. Croix trails S\, Hastings MN\, 12805 St. Croix Trails S.\, Hastings\, MN\, 55003\, United States
ATTACH;FMTTYPE=image/jpeg:https://saintpaulbirdalliance.org/wp-content/uploads/2024/05/Tiffany-Kersten-scaled-e1712936564984-845x321-1.jpeg
ORGANIZER;CN="Saint Paul Bird Alliance":MAILTO:General@saintpaulbirdalliance.org
END:VEVENT
END:VCALENDAR