BEGIN:VCALENDAR
VERSION:2.0
PRODID:-//Saint Paul Bird Alliance - ECPv6.15.20//NONSGML v1.0//EN
CALSCALE:GREGORIAN
METHOD:PUBLISH
X-ORIGINAL-URL:https://saintpaulbirdalliance.org
X-WR-CALDESC:Events for Saint Paul Bird Alliance
REFRESH-INTERVAL;VALUE=DURATION:PT1H
X-Robots-Tag:noindex
X-PUBLISHED-TTL:PT1H
BEGIN:VTIMEZONE
TZID:America/Chicago
BEGIN:DAYLIGHT
TZOFFSETFROM:-0600
TZOFFSETTO:-0500
TZNAME:CDT
DTSTART:20240310T080000
END:DAYLIGHT
BEGIN:STANDARD
TZOFFSETFROM:-0500
TZOFFSETTO:-0600
TZNAME:CST
DTSTART:20241103T070000
END:STANDARD
BEGIN:DAYLIGHT
TZOFFSETFROM:-0600
TZOFFSETTO:-0500
TZNAME:CDT
DTSTART:20250309T080000
END:DAYLIGHT
BEGIN:STANDARD
TZOFFSETFROM:-0500
TZOFFSETTO:-0600
TZNAME:CST
DTSTART:20251102T070000
END:STANDARD
BEGIN:DAYLIGHT
TZOFFSETFROM:-0600
TZOFFSETTO:-0500
TZNAME:CDT
DTSTART:20260308T080000
END:DAYLIGHT
BEGIN:STANDARD
TZOFFSETFROM:-0500
TZOFFSETTO:-0600
TZNAME:CST
DTSTART:20261101T070000
END:STANDARD
END:VTIMEZONE
BEGIN:VEVENT
DTSTART;TZID=America/Chicago:20250817T080000
DTEND;TZID=America/Chicago:20250817T120000
DTSTAMP:20260423T184806
CREATED:20240504T143437Z
LAST-MODIFIED:20250610T124821Z
UID:10000320-1755417600-1755432000@saintpaulbirdalliance.org
SUMMARY:Bike & Bird  - Saint Paul’s Creative Enterprise Zone 
DESCRIPTION:This year there are 5 Bike and Bird Sunday morning trips (June 8\, June 22\, July 13\, July 27\, Aug 17) – All are led by Sherry Gray \n993 Hampden Ave. W\, St. Paul\, MN 55114 \nSunday\, Aug 17\, 8:00 AM to Noon \nDiscover the fun of birding from a bicycle while checking out the public art in a vibrant mixed industrial/residential section of Saint Paul. We will search for urban birds in pocket parks\, vacant lots\, and along the UMN Transitway and RR tracks while exploring the murals sponsored by the Chroma Zone Festival (https://www.chromazone.net). \nLOCATION      Saint Paul’s Creative Enterprise Zone https://www.creativeenterprisezone.org \nDIRECTIONS     Park nearby or take Metro Transit (Green Line stop: Raymond) and meet on bikes in Hampden Park\, 993 Hampden Ave W\, St Paul\, MN 55114 – DIRECTLY ACROSS FROM HAMPDEN PARK CO-OP (pictured here)  44.97000495061184\, -93.19900698929779 \nINFORMATION     Bring bicycle\, helmet\, binoculars\, lunch\, snacks\, sunscreen and water. Leader will bring a first aid kit. You may want a camera for the murals. Group will stop at the Hampden Co-op for mid-morning break and/or lunch (we can get picnic supplies and snacks at Co-op and eat in Hampden Park). \nREGISTRATION     Required and limited to 8 participants. Contact:   sherrygray@yahoo.com  to register.  Participants will be asked to sign a liability release form at the start of the trip. \nDIFFICULTY     Route is level and paved\, but mostly on city streets which at times can be high traffic\, including very large trucks (semis)\, so participants encourage to have bike lights and wear high vis clothing. As there are many excellent murals\, the pace will be relaxed. Birders\, art lovers and bicyclists of all levels\, including newbies\, very welcome to join. \nLEADER     Sherry Gray   sherrygray@yahoo.com \n 
URL:https://saintpaulbirdalliance.org/event/bike-bird-saint-pauls-creative-enterprise-zone/
LOCATION:Hampden Park  St. Paul\, 993 Hampden Ave W\, St Paul\, 55104\, United States
CATEGORIES:Bicycling,Birding,Field Trip
ATTACH;FMTTYPE=image/jpeg:https://saintpaulbirdalliance.org/wp-content/uploads/2024/04/Hampden-Park-Co-op-St.-Paul.jpeg
ORGANIZER;CN="Saint Paul Bird Alliance":MAILTO:General@saintpaulbirdalliance.org
END:VEVENT
END:VCALENDAR