BEGIN:VCALENDAR
VERSION:2.0
PRODID:-//Saint Paul Bird Alliance - ECPv6.15.20//NONSGML v1.0//EN
CALSCALE:GREGORIAN
METHOD:PUBLISH
X-WR-CALNAME:Saint Paul Bird Alliance
X-ORIGINAL-URL:https://saintpaulbirdalliance.org
X-WR-CALDESC:Events for Saint Paul Bird Alliance
REFRESH-INTERVAL;VALUE=DURATION:PT1H
X-Robots-Tag:noindex
X-PUBLISHED-TTL:PT1H
BEGIN:VTIMEZONE
TZID:America/Chicago
BEGIN:DAYLIGHT
TZOFFSETFROM:-0600
TZOFFSETTO:-0500
TZNAME:CDT
DTSTART:20240310T080000
END:DAYLIGHT
BEGIN:STANDARD
TZOFFSETFROM:-0500
TZOFFSETTO:-0600
TZNAME:CST
DTSTART:20241103T070000
END:STANDARD
BEGIN:DAYLIGHT
TZOFFSETFROM:-0600
TZOFFSETTO:-0500
TZNAME:CDT
DTSTART:20250309T080000
END:DAYLIGHT
BEGIN:STANDARD
TZOFFSETFROM:-0500
TZOFFSETTO:-0600
TZNAME:CST
DTSTART:20251102T070000
END:STANDARD
BEGIN:DAYLIGHT
TZOFFSETFROM:-0600
TZOFFSETTO:-0500
TZNAME:CDT
DTSTART:20260308T080000
END:DAYLIGHT
BEGIN:STANDARD
TZOFFSETFROM:-0500
TZOFFSETTO:-0600
TZNAME:CST
DTSTART:20261101T070000
END:STANDARD
END:VTIMEZONE
BEGIN:VEVENT
DTSTART;TZID=America/Chicago:20250624T070000
DTEND;TZID=America/Chicago:20250624T090000
DTSTAMP:20260421T121155
CREATED:20210518T194236Z
LAST-MODIFIED:20250609T012015Z
UID:10000102-1750748400-1750755600@saintpaulbirdalliance.org
SUMMARY:Tuesday Morning Birding - Reservoir Woods\, Roseville
DESCRIPTION:Reservoir Woods – Roseville City Park\, Larpenteur Ave.\, 55113 \nSummer birding is more relaxed and presents possibilities for observing behaviors different from other times of year. Now they are briefly settled on family territories. Birders have opportunities for lingering identifications and group observations at a summer-time relaxed pace. This pace is also ideal for birders of all skill levels to learn and experience the basics to locate\, describe\, and identify birds. \nDIRECTIONS      Meet at the Roseville Woodview Off-Leash Dog Area parking lot\, between Rice and Dale Streets on Larpenteur Ave. (Location listed on eBird hotspots as “Reservoir Woods—Woodview Open Space”.) Park snugly in the small parking lot or street park on Mackubin St. directly across Larpenteur from the dog area parking lot. 44.992056\, -93.120548 \nREGISTRATION     None \nDIFFICULTY      Approximately 1.2-1.7 miles on paved paths. Small portion on packed dirt paths possible depending on route chosen that day. Moderate decline at the beginning\, and incline when returning at the end. Porta potty at the parking area. \nLEADER   Mark Gilbert and Neil Carlson\, ngcarlson0@gmail.com   763-245-3556
URL:https://saintpaulbirdalliance.org/event/birding-summer-style-1-reservoir-woods-roseville/
LOCATION:Reservoir Woods | Woodview Area\, Larpenteur Ave & Dale Street\, Roseville\, MN\, 55113\, United States
CATEGORIES:Birding,Field Trip
ATTACH;FMTTYPE=image/jpeg:https://saintpaulbirdalliance.org/wp-content/uploads/2016/12/Balto-Oriole-male_jim-williams.jpg
ORGANIZER;CN="Saint Paul Bird Alliance":MAILTO:General@saintpaulbirdalliance.org
END:VEVENT
END:VCALENDAR