BEGIN:VCALENDAR
VERSION:2.0
PRODID:-//Saint Paul Bird Alliance - ECPv6.15.20//NONSGML v1.0//EN
CALSCALE:GREGORIAN
METHOD:PUBLISH
X-WR-CALNAME:Saint Paul Bird Alliance
X-ORIGINAL-URL:https://saintpaulbirdalliance.org
X-WR-CALDESC:Events for Saint Paul Bird Alliance
REFRESH-INTERVAL;VALUE=DURATION:PT1H
X-Robots-Tag:noindex
X-PUBLISHED-TTL:PT1H
BEGIN:VTIMEZONE
TZID:America/Chicago
BEGIN:DAYLIGHT
TZOFFSETFROM:-0600
TZOFFSETTO:-0500
TZNAME:CDT
DTSTART:20210314T080000
END:DAYLIGHT
BEGIN:STANDARD
TZOFFSETFROM:-0500
TZOFFSETTO:-0600
TZNAME:CST
DTSTART:20211107T070000
END:STANDARD
BEGIN:DAYLIGHT
TZOFFSETFROM:-0600
TZOFFSETTO:-0500
TZNAME:CDT
DTSTART:20220313T080000
END:DAYLIGHT
BEGIN:STANDARD
TZOFFSETFROM:-0500
TZOFFSETTO:-0600
TZNAME:CST
DTSTART:20221106T070000
END:STANDARD
BEGIN:DAYLIGHT
TZOFFSETFROM:-0600
TZOFFSETTO:-0500
TZNAME:CDT
DTSTART:20230312T080000
END:DAYLIGHT
BEGIN:STANDARD
TZOFFSETFROM:-0500
TZOFFSETTO:-0600
TZNAME:CST
DTSTART:20231105T070000
END:STANDARD
BEGIN:DAYLIGHT
TZOFFSETFROM:-0600
TZOFFSETTO:-0500
TZNAME:CDT
DTSTART:20240310T080000
END:DAYLIGHT
BEGIN:STANDARD
TZOFFSETFROM:-0500
TZOFFSETTO:-0600
TZNAME:CST
DTSTART:20241103T070000
END:STANDARD
BEGIN:DAYLIGHT
TZOFFSETFROM:-0600
TZOFFSETTO:-0500
TZNAME:CDT
DTSTART:20250309T080000
END:DAYLIGHT
BEGIN:STANDARD
TZOFFSETFROM:-0500
TZOFFSETTO:-0600
TZNAME:CST
DTSTART:20251102T070000
END:STANDARD
BEGIN:DAYLIGHT
TZOFFSETFROM:-0600
TZOFFSETTO:-0500
TZNAME:CDT
DTSTART:20260308T080000
END:DAYLIGHT
BEGIN:STANDARD
TZOFFSETFROM:-0500
TZOFFSETTO:-0600
TZNAME:CST
DTSTART:20261101T070000
END:STANDARD
END:VTIMEZONE
BEGIN:VEVENT
DTSTART;TZID=America/Chicago:20250617T070000
DTEND;TZID=America/Chicago:20250617T090000
DTSTAMP:20260423T170726
CREATED:20240327T013746Z
LAST-MODIFIED:20250609T010032Z
UID:10000311-1750143600-1750150800@saintpaulbirdalliance.org
SUMMARY:Tuesday Morning Birding at Silverwood Regional Park
DESCRIPTION:2500 Cty Rd. E\, St. Anthony\, MN  55421 \nSilverwood Park is a beautiful urban park on the shores of Silver Lake. The variety of habitats in the park–oak forest\, marsh\, grassland\, and lakefront–make it a great birding destination\, with over 180 different species sighted in the park. \nDIRECTIONS     From 35W\, take Cty Rd D/37th Ave. west\, turn north (rt) onto Silver Lake\, or\, from I-694\, take Silver Lake exit\, go south. Finally\, go west on Cty Rd E for ~1\,000 ft\, entrance on left. Meet at the large main parking lot. 45.047141\, -93.225707 \nREGISTRATION     None \nDIFFICULTY     Approximately 1.5 miles on paved and gravel trails with small\, gradual hills or on a level grassy area. Benches available. Indoor restrooms\, water\, and café on-site. \nLeaders    Mark Gilbert and Neil Carlson\, ngcarlson0@gmail.com   763-245-3556
URL:https://saintpaulbirdalliance.org/event/tuesday-morning-walks-silverwood-regional-park/
LOCATION:Silverwood Regional Park\, St Anthony\, MN\, 2500 County Road E\, St. Anthony\, MN\, 55421\, United States
CATEGORIES:Birding,Field Trip
ATTACH;FMTTYPE=image/jpeg:https://saintpaulbirdalliance.org/wp-content/uploads/2024/03/Silverwood-Sculpture.jpg
ORGANIZER;CN="Saint Paul Bird Alliance":MAILTO:General@saintpaulbirdalliance.org
END:VEVENT
BEGIN:VEVENT
DTSTART;TZID=America/Chicago:20250513T140000
DTEND;TZID=America/Chicago:20250513T160000
DTSTAMP:20260423T170726
CREATED:20240210T170135Z
LAST-MODIFIED:20250609T010703Z
UID:10000304-1747144800-1747152000@saintpaulbirdalliance.org
SUMMARY:Beginning Birding though the Months at Silverwood Park
DESCRIPTION:This is the last of a 4-trip Silverwood Park birding experience (February thru May).  \nSilverwood Park is a beautiful urban park on the shores of Silver Lake. The variety of habitats in the park–oak forest\, marsh\, grassland\, and lakefront–make it a great birding destination\, with over 180 different species sighted in the park. \nBirding in a single location over several months can be a great way to get into birding. During this series of four field trips\, participants will get to know the park and watch for different birds each month as the seasons change. In addition to getting to know the birds of Silverwood\, participants will also be introduced to basic birding techniques and tools\, including digital resources. Participants are encouraged to bring their own binoculars; a few extra pairs will be available. \nDIRECTIONS     Meet at the doors leading into the Visitor Center from the parking lot.  45.046808\, -93.224715 \nREGISTRATION     No registration necessary. Come for any of the sessions–attending all is not required. \nDIFFICULTY     Most paths are paved\, but may be icy in the winter. Walks will range from 1-1.5 miles. \nLEADERS     Jen Miller  birdingjen@gmail.com    and  Liz Richards \nWednesday\, May 15: 2-4 PM \nMay brings warblers\, warblers\, and more warblers! We’ll also begin to see some of the beautiful summer residents of the park\, including orioles\, rose-breasted grosbeaks\, and bluebirds. While the leaves returning to the trees makes seeing birds more challenging\, the variety of species in the park in May makes this one of the most exciting times of year for birding.
URL:https://saintpaulbirdalliance.org/event/beginning-birding-though-the-months-at-silverwood-park/
LOCATION:Silverwood Regional Park\, St Anthony\, MN\, 2500 County Road E\, St. Anthony\, MN\, 55421\, United States
CATEGORIES:Birding,Field Trip
ATTACH;FMTTYPE=image/jpeg:https://saintpaulbirdalliance.org/wp-content/uploads/2016/12/bluebird_jim-williams_0.jpg
ORGANIZER;CN="Saint Paul Bird Alliance":MAILTO:General@saintpaulbirdalliance.org
END:VEVENT
BEGIN:VEVENT
DTSTART;TZID=America/Chicago:20230523T070000
DTEND;TZID=America/Chicago:20230523T090000
DTSTAMP:20260423T170726
CREATED:20230328T021915Z
LAST-MODIFIED:20230328T021915Z
UID:10000199-1684825200-1684832400@saintpaulbirdalliance.org
SUMMARY:Tuesday Morning Bird Walk - Silverwood Regional Park
DESCRIPTION:May 23: Silverwood Regional Park\, 2500 Cty Rd. E\, St. Anthony\, MN  55421 \nPasserine migrants\, wetlands. \nDIRECTIONS     From 35W\, take Cty Rd D/37th Ave. west\, turn north (rt) onto Silver Lake\, or\, from I-694\, take Silver Lake exit\, go south. Finally\, go west on Cty Rd E for ~1\,000 ft\, entrance on left. Meet at the large main parking lot. Restrooms available. \nINSTRUCTIONS     Bring water\, insect repellant and field guide. Contact leader/s only if you need additional information. \nREGISTRATION     None \nDIFFICULTY     Easy. Generally level pathways both chipped and paved. A few gradual hills. \nLEADERS     Jane Braun    jane@promotional.com    Mark Gilbert \n  \n 
URL:https://saintpaulbirdalliance.org/event/tuesday-morning-bird-walk-silverwood-regional-park/
LOCATION:Silverwood Regional Park\, St Anthony\, MN\, 2500 County Road E\, St. Anthony\, MN\, 55421\, United States
CATEGORIES:Bird Walk,Field Trip
ATTACH;FMTTYPE=image/jpeg:https://saintpaulbirdalliance.org/wp-content/uploads/2023/03/double-crested-cormorant.jpg
ORGANIZER;CN="Saint Paul Bird Alliance":MAILTO:General@saintpaulbirdalliance.org
END:VEVENT
BEGIN:VEVENT
DTSTART;TZID=America/Chicago:20220705T180000
DTEND;TZID=America/Chicago:20220705T203000
DTSTAMP:20260423T170726
CREATED:20210518T194134Z
LAST-MODIFIED:20220426T203719Z
UID:10000101-1657044000-1657053000@saintpaulbirdalliance.org
SUMMARY:Birding Summer Style - #2 Silverwood Park
DESCRIPTION:This is the second of three great Birding Summer Style trips offered at a variety of days and times. Why? Summer birding is more relaxed and presents possibilities for observing different behaviors once birds are settled on family territories. Birders have opportunities for lingering identifications with group interaction at a summer-time relaxed pace. The slower pace is also ideal for beginning birders to learn and experience the basics to locate\, describe and identify birds. \n Silverwood Park\, 2500 County Rd E\, St. Anthony (just west of Silver Lake Rd). Please note this is an evening walk. \nSUGGESTIONS     Dress for the weather and wear closed-toe shoes. Bring a brimmed hat\, water\, sunblock and a field guide with maps or a smartphone with the app already installed. Chase will have some loaner binoculars available. Call leader if you want to borrow 8×35 binoculars. \nDIFFICULTY     Easy \nLEADER    Chase Davies  651-246-9754  RockyBirder@gmail.com
URL:https://saintpaulbirdalliance.org/event/birding-summer-style-2-silverwood-park/
LOCATION:Silverwood Regional Park\, St Anthony\, MN\, 2500 County Road E\, St. Anthony\, MN\, 55421\, United States
CATEGORIES:Bird Walk,Field Trip
ATTACH;FMTTYPE=image/jpeg:https://saintpaulbirdalliance.org/wp-content/uploads/2021/04/Silverwood-visitor-center.jpg
ORGANIZER;CN="Saint Paul Bird Alliance":MAILTO:General@saintpaulbirdalliance.org
END:VEVENT
END:VCALENDAR