BEGIN:VCALENDAR
VERSION:2.0
PRODID:-//Saint Paul Bird Alliance - ECPv6.15.20//NONSGML v1.0//EN
CALSCALE:GREGORIAN
METHOD:PUBLISH
X-ORIGINAL-URL:https://saintpaulbirdalliance.org
X-WR-CALDESC:Events for Saint Paul Bird Alliance
REFRESH-INTERVAL;VALUE=DURATION:PT1H
X-Robots-Tag:noindex
X-PUBLISHED-TTL:PT1H
BEGIN:VTIMEZONE
TZID:America/Chicago
BEGIN:DAYLIGHT
TZOFFSETFROM:-0600
TZOFFSETTO:-0500
TZNAME:CDT
DTSTART:20210314T080000
END:DAYLIGHT
BEGIN:STANDARD
TZOFFSETFROM:-0500
TZOFFSETTO:-0600
TZNAME:CST
DTSTART:20211107T070000
END:STANDARD
BEGIN:DAYLIGHT
TZOFFSETFROM:-0600
TZOFFSETTO:-0500
TZNAME:CDT
DTSTART:20220313T080000
END:DAYLIGHT
BEGIN:STANDARD
TZOFFSETFROM:-0500
TZOFFSETTO:-0600
TZNAME:CST
DTSTART:20221106T070000
END:STANDARD
BEGIN:DAYLIGHT
TZOFFSETFROM:-0600
TZOFFSETTO:-0500
TZNAME:CDT
DTSTART:20230312T080000
END:DAYLIGHT
BEGIN:STANDARD
TZOFFSETFROM:-0500
TZOFFSETTO:-0600
TZNAME:CST
DTSTART:20231105T070000
END:STANDARD
END:VTIMEZONE
BEGIN:VEVENT
DTSTART;TZID=America/Chicago:20220907T073000
DTEND;TZID=America/Chicago:20220907T093000
DTSTAMP:20260419T120642
CREATED:20220730T012948Z
LAST-MODIFIED:20220730T013138Z
UID:10000113-1662535800-1662543000@saintpaulbirdalliance.org
SUMMARY:Bird Up – at Sucker Lake
DESCRIPTION:Bird Up! – Something New for the Fall \nThis is the debut of Saint Paul Audubon’s new more informal version of birding events.  Meet up at the site\, and everyone will be responsible for finding and identifying the birds.  SPAS will provide a convener who is familiar with the park and knows which areas to visit\, and who will make sure everyone finds their way back to the parking lot. Birders of all levels welcome. Keep an eye on the SPAS website as we hope to offer Bird Ups throughout the fall. \nSucker Lake \n4500 Rice Street\, Vadnais Heights \nWednesday\, Sept 7\, 7:30 – 9:30 AM \nMeet by the picnic shelters at the parking lot on the north end of the lake.  The entrance is on the east side of Rice Street\, about 50 yards south of Hwy 96. Go right/south at the circle in the parking lot. \nDIFFICULTY:     Easy.  Approximately 1.7 miles on level ground.  About 2/3 paved and 1/3 dirt/woodchip/grass path with some roots.  Restrooms on site. \nCONVENER:     Jane Braun jane@promotional.com \n  \n 
URL:https://saintpaulbirdalliance.org/event/bird-up-at-sucker-lake/
LOCATION:Sucker Lake\, Vadnais Heights\, MN\, 55127\, United States
CATEGORIES:Bird Walk,Field Trip
ATTACH;FMTTYPE=image/jpeg:https://saintpaulbirdalliance.org/wp-content/uploads/2022/07/sucker-lake.jpg
ORGANIZER;CN="Saint Paul Bird Alliance":MAILTO:General@saintpaulbirdalliance.org
END:VEVENT
END:VCALENDAR