BEGIN:VCALENDAR
VERSION:2.0
PRODID:-//Saint Paul Bird Alliance - ECPv6.15.20//NONSGML v1.0//EN
CALSCALE:GREGORIAN
METHOD:PUBLISH
X-ORIGINAL-URL:https://saintpaulbirdalliance.org
X-WR-CALDESC:Events for Saint Paul Bird Alliance
REFRESH-INTERVAL;VALUE=DURATION:PT1H
X-Robots-Tag:noindex
X-PUBLISHED-TTL:PT1H
BEGIN:VTIMEZONE
TZID:America/Chicago
BEGIN:DAYLIGHT
TZOFFSETFROM:-0600
TZOFFSETTO:-0500
TZNAME:CDT
DTSTART:20250309T080000
END:DAYLIGHT
BEGIN:STANDARD
TZOFFSETFROM:-0500
TZOFFSETTO:-0600
TZNAME:CST
DTSTART:20251102T070000
END:STANDARD
BEGIN:DAYLIGHT
TZOFFSETFROM:-0600
TZOFFSETTO:-0500
TZNAME:CDT
DTSTART:20260308T080000
END:DAYLIGHT
BEGIN:STANDARD
TZOFFSETFROM:-0500
TZOFFSETTO:-0600
TZNAME:CST
DTSTART:20261101T070000
END:STANDARD
BEGIN:DAYLIGHT
TZOFFSETFROM:-0600
TZOFFSETTO:-0500
TZNAME:CDT
DTSTART:20270314T080000
END:DAYLIGHT
BEGIN:STANDARD
TZOFFSETFROM:-0500
TZOFFSETTO:-0600
TZNAME:CST
DTSTART:20271107T070000
END:STANDARD
END:VTIMEZONE
BEGIN:VEVENT
DTSTART;TZID=America/Chicago:20260425T060000
DTEND;TZID=America/Chicago:20260425T143000
DTSTAMP:20260423T042548
CREATED:20260302T180046Z
LAST-MODIFIED:20260302T180601Z
UID:10000431-1777096800-1777127400@saintpaulbirdalliance.org
SUMMARY:Arboretum Bird Day
DESCRIPTION:Saturday\, April 25 | 6 a.m.-2:30 p.m.\nGrow your knowledge of birds with your choice of walks and workshops!\n\n\nBirding is for everyone! Come together with birding enthusiasts and experts from around the region to celebrate spring migration! This day-long buffet of workshops\, nature walks and book signings will be offered to birders from novice to experienced. Amidst the setting of spring flowers\, interact with a host of experts about birding\, habitat\, quirky bird science and even meet live raptors! Pay one fee for the day\, but customize your experience based on your interests. \n\n\n\nKeynote: Birds\, Cameras & Inclusivity with Dudley Edmonson\nMr. Edmondson has been watching birds for over four decades. Few things bring him more joy than a spring hike in the woods to see migrants singing in the trees! In that time\, he’s had a career as a professional wildlife photographer\, author\, public speaker\, and filmmaker\, and has worked hard to ensure people know that nature is for everyone. Be inspired by Edmondson’s story and beautiful images from Minnesota and beyond. \n\n\n\n\n\n\nFee: $105 member/$130 non-member*\, includes customized choice of sessions\, morning coffee/snack\, and Arboretum admission \n\n\n\n\nAdd-ons: \n$25 for kids ages 8-15\n$25 for lunch buffet from Rootstock:\nBuild Your Own Grain Bowl Buffet – Kernza Wheat (Vg)\, Wild Rice\, (Vg\, GF)\, Quinoa (Vg\, GF)\, Diced Cucumber (Vg\, GF)\, Diced Onion (Vg\, GF)\, Marinated Cannellini Beans (Vg\, GF)\, Pickled Peppers (Vg\, GF)\, Greens (Vg\, GF)\, Roasted and Steamed Seasonal Vegetables (Vg\, GF)\, and Seasonal Dressings (Vg\, GF). \nRegistration
URL:https://saintpaulbirdalliance.org/event/arboretum-bird-day/
LOCATION:University of Minnesota Landscape Arboretum\, 3675 Arboretum Dr\, Chaska\, MN\, 55318\, United States
ATTACH;FMTTYPE=image/jpeg:https://saintpaulbirdalliance.org/wp-content/uploads/2026/03/birdingfieldday1200x395_aps.jpg.jpg
END:VEVENT
END:VCALENDAR